BEGIN:VCALENDAR
VERSION:2.0
PRODID:-//ChamberMaster//Event Calendar 2.0//EN
METHOD:PUBLISH
X-PUBLISHED-TTL:P3D
REFRESH-INTERVAL:P3D
CALSCALE:GREGORIAN
BEGIN:VEVENT
DTSTART:20230423T140000Z
DTEND:20230423T203000Z
X-MICROSOFT-CDO-ALLDAYEVENT:FALSE
SUMMARY:12th annual All Kids Fair
DESCRIPTION:The 12th  annual All Kids Fair will be on Sunday\, April 23 at Samanea Mall (formerly the Source Mall) at 1504 Old Country Road in Westbury from 10AM - 4:30 PM.\n\n \n\nIndoors:  Enjoy 80+ kid-centered exhibitors\, 3 bounce houses\, characters\, photo booth\, face painters\, balloon animals\, and 14 activity areas\, including fashion design\, chess\, hip hop\, soccer\, and wield a light saber\, and much more. \n\n \n\nOutdoors:  petting zoo with a pig\, goats\, rabbits and chickens\, a game truck\, and a mobile STEAM lab bus.\n\n \n\n?and EVERYTHING ABOVE IS INCLUDED with admission! \n\n \n\nGreat parking.  High ceilings.  One amazing day!  Too much to fit onto one flyer : )\n\n \n\nSee our website www.AllKidsFair.com for all you need to know.\n\nSave $ by purchasing tickets online.  www.AllKidsFair.com/Tickets (online only $5!)
X-ALT-DESC;FMTTYPE=text/html:<span style="color:#050505"><span style="font-family:inherit\,serif"><span style="font-size:11.5pt">The 12<sup>th</sup> &nbsp\;annual All Kids Fair will be on Sunday\, April 23 at Samanea Mall (formerly the Source Mall) at 1504 Old Country Road in Westbury from 10AM - 4:30 PM.</span></span></span><br>\n&nbsp\;<br>\n<span style="color:#050505"><span style="font-family:inherit\,serif"><span style="font-size:11.5pt">Indoors:&nbsp\; Enjoy 80+ kid-centered exhibitors\, 3 bounce houses\, characters\, photo booth\, face painters\, balloon animals\, and 14 activity areas\, including fashion design\, chess\, hip hop\, soccer\, and </span></span></span>wield a light saber<span style="color:#050505"><span style="font-family:inherit\,serif"><span style="font-size:11.5pt">\, and much more.&nbsp\;</span></span></span><br>\n&nbsp\;<br>\n<span style="color:#050505"><span style="font-family:inherit\,serif"><span style="font-size:11.5pt">Outdoors: &nbsp\;petting zoo with a pig\, goats\, rabbits and chickens\, a game truck\, and a mobile STEAM lab bus.</span></span></span><br>\n&nbsp\;<br>\n<span style="color:#050505"><span style="font-family:inherit\,serif"><span style="font-size:11.5pt">?and EVERYTHING ABOVE IS INCLUDED with admission!&nbsp\;</span></span></span><br>\n&nbsp\;<br>\n<span style="color:#050505"><span style="font-family:inherit\,serif"><span style="font-size:11.5pt">Great parking.&nbsp\; High ceilings.&nbsp\; One amazing day!&nbsp\; Too much to fit onto one flyer : )</span></span></span><br>\n&nbsp\;<br>\n<span style="color:#050505"><span style="font-family:inherit\,serif"><span style="font-size:11.5pt">See our website&nbsp\;</span></span></span><a href="http://www.allkidsfair.com/?fbclid=IwAR2z2SNrgtMVdaqOen-iuQHjr3M1Fw058OMu8oAac7x6f03U2XVBFFVjuYA" style="color:blue\;" target="_blank"><span style="font-family:inherit\,serif"><span style="font-size:11.5pt">www.AllKidsFair.com</span></span></a><span style="color:#050505"><span style="font-family:inherit\,serif"><span style="font-size:11.5pt">&nbsp\;for all you need to know.</span></span></span><br>\n<span style="color:#050505"><span style="font-family:inherit\,serif"><span style="font-size:11.5pt">Save $ by purchasing tickets online.&nbsp\; </span></span></span><a href="http://www.AllKidsFair.com/Tickets" style="color:blue\;"><span style="font-family:inherit\,serif"><span style="font-size:11.5pt">www.AllKidsFair.com/Tickets</span></span></a><span style="color:#050505"><span style="font-family:inherit\,serif"><span style="font-size:11.5pt"> (online only $5!)</span></span></span>
LOCATION:Samanea Mall (formerly The Source Mall)\, 1504 Old Country Road\, Westbury. Find us on the second floor and also in the parking lot on Merchants Concourse perpendicular to Old Country Road.
UID:e.3234.275
SEQUENCE:3
DTSTAMP:20260422T082818Z
URL:https://business.roslynchamber.org/events/details/12th-annual-all-kids-fair-275
END:VEVENT

END:VCALENDAR
