BEGIN:VCALENDAR
VERSION:2.0
PRODID:-//ChamberMaster//Event Calendar 2.0//EN
METHOD:PUBLISH
X-PUBLISHED-TTL:P3D
REFRESH-INTERVAL:P3D
CALSCALE:GREGORIAN
BEGIN:VEVENT
DTSTART:20210926T140000Z
DTEND:20210926T203000Z
X-MICROSOFT-CDO-ALLDAYEVENT:FALSE
SUMMARY:12th annual Over 50 Fair
DESCRIPTION:Vendors\, Speakers\, Advertisers and Sponsors Wanted!\n\n\n\nJoin us at the 12th annual Over 50 Fair.  We will have tons of classes and exhibitors\, "funny money" blackjack\, singles lounge and much more\, all included with admission.  Meet lovely beauty queens!  This isn't your typical "senior fair!"  For more information\, please visit www.Over50Fair.com
X-ALT-DESC;FMTTYPE=text/html:Vendors\, Speakers\, Advertisers and Sponsors Wanted!<br />\n<br />\nJoin us at the 12th annual Over 50 Fair.&nbsp\; We will have tons of classes and exhibitors\, &quot\;funny money&quot\; blackjack\, singles lounge and much more\, all included with admission.&nbsp\; Meet lovely beauty queens!&nbsp\; This isn&#39\;t your typical &quot\;senior fair!&quot\;&nbsp\; For more information\, please visit <a href="http://www.over50fair.com">www.Over50Fair.com&nbsp\;</a>
LOCATION:Samanea Mall 2nd Floor. Easiest entry is through the parking garage 2nd floor\, which is located to the right and behind the main entrance.
UID:e.3234.173
SEQUENCE:3
DTSTAMP:20260425T144850Z
URL:https://business.roslynchamber.org/events/details/12th-annual-over-50-fair-173
END:VEVENT

END:VCALENDAR
