BEGIN:VCALENDAR
VERSION:2.0
PRODID:-//ChamberMaster//Event Calendar 2.0//EN
METHOD:PUBLISH
X-PUBLISHED-TTL:P3D
REFRESH-INTERVAL:P3D
CALSCALE:GREGORIAN
BEGIN:VEVENT
DTSTART:20240414T140000Z
DTEND:20240414T203000Z
X-MICROSOFT-CDO-ALLDAYEVENT:FALSE
SUMMARY:13th annual All Kids Fair
DESCRIPTION:This annual kid-focused expo is a full day of family fun all included with admission. In addition to 80+ kid-centered exhibitors\, there will be 3 bounce houses\, face painters\, balloon artists\, a photo booth\, cotton candy\, and more. \n\n\n\nThere will also be 13 activity areas\, some inside and some out.  Some of the inside areas are martial arts\, pickleball\, soccer\, ninja warrior obstacle course\, and soft play.  Outside will include a game truck and mobile STEAM lab bus with Lego projects.  Everything listed here is included for just $5 for kids ages 2+ and adults if prepaid at www.AllKidsFair.com/tickets\n\n\n\nExhibitors will be promoting after school activities\, camps\, places to play\, non-profits\, kids' products and much more.  Join us!
X-ALT-DESC;FMTTYPE=text/html:<span style="font-family:times new roman\,serif"><span style="font-size:15.5pt">This annual kid-focused expo is a full day of family fun all included with admission. In addition to 80+ kid-centered exhibitors\, there will be 3 bounce houses\, face painters\, balloon artists\, a photo booth\, cotton candy\, and more.&nbsp\;</span></span><br />\n<br />\n<span style="font-family:times new roman\,serif"><span style="font-size:15.5pt">There will also be 13 activity areas\, some inside and some out.&nbsp\; Some of the inside areas are martial arts\, pickleball\, soccer\, ninja warrior obstacle course\, and soft play.&nbsp\; Outside will include a game truck and mobile STEAM lab bus with Lego projects.&nbsp\; Everything listed here is included for just $5 for kids ages 2+ and adults if prepaid at <a href="http://www.AllKidsFair.com/tickets" style="color:rgb(5\, 99\, 193)\;">www.AllKidsFair.com/tickets</a></span></span><br />\n<br />\n<span style="font-family:times new roman\,serif"><span style="font-size:15.5pt">Exhibitors will be promoting after school activities\, camps\, places to play\, non-profits\, kids&rsquo\; products and much more.&nbsp\; Join us!</span></span>
LOCATION:Samanea Mall\, formerly the Source Mall\, in Westbury at 1504 Old Country Road
UID:e.3234.518
SEQUENCE:3
DTSTAMP:20260421T122204Z
URL:https://business.roslynchamber.org/events/details/13th-annual-all-kids-fair-518
END:VEVENT

END:VCALENDAR
