BEGIN:VCALENDAR
VERSION:2.0
PRODID:-//ChamberMaster//Event Calendar 2.0//EN
METHOD:PUBLISH
X-PUBLISHED-TTL:P3D
REFRESH-INTERVAL:P3D
CALSCALE:GREGORIAN
BEGIN:VEVENT
DTSTART:20230910T140000Z
DTEND:20230910T203000Z
X-MICROSOFT-CDO-ALLDAYEVENT:FALSE
SUMMARY:14th annual Over 50 Fair
DESCRIPTION:Vendors\, Speakers\, Advertisers and Sponsors Wanted!\n\n\n\nThis is NOT your "typical" senior fair!\n\n\n\nJoin us at the 14th annual Over 50 Fair.  We will have 25+ classes and over 80 exhibitors\, "funny money" blackjack\, photo booth with props\, hearing screenings\, singles lounge\, a live acoustic music showcase\, and much more\, all included with admission.  Meet lovely beauty queens!   For more information\, please visit www.Over50Fair.com
X-ALT-DESC;FMTTYPE=text/html:Vendors\, Speakers\, Advertisers and Sponsors Wanted!<br />\n<br />\nThis is NOT your &quot\;typical&quot\; senior fair!<br />\n<br />\nJoin us at the 14th annual Over 50 Fair.&nbsp\; We will have 25+ classes and over 80 exhibitors\, &quot\;funny money&quot\; blackjack\, photo booth with props\, hearing screenings\, singles lounge\, a live acoustic music showcase\, and much more\, all included with admission.&nbsp\; Meet lovely beauty queens!&nbsp\; &nbsp\;For more information\, please visit <a href="http://www.over50fair.com">www.Over50Fair.com&nbsp\;</a>
LOCATION:Hilton Long Island/Huntington - Grand Ballroom entrance. 598 Broadhollow Road (Rt. 110)\, Melville
UID:e.3234.495
SEQUENCE:3
DTSTAMP:20260422T013624Z
URL:https://business.roslynchamber.org/events/details/14th-annual-over-50-fair-495
END:VEVENT

END:VCALENDAR
