BEGIN:VCALENDAR
VERSION:2.0
PRODID:-//ChamberMaster//Event Calendar 2.0//EN
METHOD:PUBLISH
X-PUBLISHED-TTL:P3D
REFRESH-INTERVAL:P3D
CALSCALE:GREGORIAN
BEGIN:VEVENT
DTSTART:20250703T150000Z
DTEND:20250703T180000Z
X-MICROSOFT-CDO-ALLDAYEVENT:FALSE
SUMMARY:vibrance 360 X BTL Bus Brunch
DESCRIPTION:The BTL Bus Tour is a nationwide mobile experience showcasing BTL's cutting-edge aesthetic and wellness technologies through live demos and expert-led education! 20% of proceeds will be donated to the North Shore Autism Circle.\n\n\n\nRSVP HERE: https://www.eventbrite.com/e/btl-bus-tickets-1413253151219?utm-campaign=social&utm-content=attendeeshare&utm-medium=discovery&utm-term=listing&utm-source=cp&aff=ebdsshcopyurl
X-ALT-DESC;FMTTYPE=text/html:The BTL Bus Tour is a nationwide mobile experience showcasing BTL&#39\;s cutting-edge aesthetic and wellness technologies through live demos and expert-led education! 20% of proceeds will be donated to the North Shore Autism Circle.<br />\n<br />\nRSVP HERE:&nbsp\;<a href="https://www.eventbrite.com/e/btl-bus-tickets-1413253151219?utm-campaign=social&amp\;utm-content=attendeeshare&amp\;utm-medium=discovery&amp\;utm-term=listing&amp\;utm-source=cp&amp\;aff=ebdsshcopyurl">https://www.eventbrite.com/e/btl-bus-tickets-1413253151219?utm-campaign=social&amp\;utm-content=attendeeshare&amp\;utm-medium=discovery&amp\;utm-term=listing&amp\;utm-source=cp&amp\;aff=ebdsshcopyurl</a>
LOCATION:
UID:e.3234.555
SEQUENCE:3
DTSTAMP:20260420T085633Z
URL:https://business.roslynchamber.org/events/details/btl-bus-brunch-555
END:VEVENT

END:VCALENDAR
