BEGIN:VCALENDAR
VERSION:2.0
PRODID:-//ChamberMaster//Event Calendar 2.0//EN
METHOD:PUBLISH
X-PUBLISHED-TTL:P3D
REFRESH-INTERVAL:P3D
CALSCALE:GREGORIAN
BEGIN:VEVENT
DTSTART:20230711T200000Z
DTEND:20230711T230000Z
X-MICROSOFT-CDO-ALLDAYEVENT:FALSE
SUMMARY:Community\, Cocktails & Conversation
DESCRIPTION:The Sub-Zero\, Wolf & Cove Roslyn Heights NY showroom invites you to join us on July 11th for an evening to celebrate our Long Island Community.\n\n\n\nCommunity\, Conversations and Cocktails\n\nJuly 11th\n\n4pm - 7pm\n\n170 Mineola Avenue\n\nRoslyn Heights NY \n\nRSVP on link or email: esther.gabrielides@subzero.com
X-ALT-DESC;FMTTYPE=text/html:The Sub-Zero\, Wolf &amp\; Cove Roslyn Heights NY showroom invites you to join us on July 11th for an evening to celebrate our Long Island Community.<br />\n<br />\nCommunity\, Conversations and Cocktails<br />\nJuly 11th<br />\n4pm - 7pm<br />\n170 Mineola Avenue<br />\nRoslyn Heights NY&nbsp\;<br />\nRSVP on link or email: esther.gabrielides@subzero.com
LOCATION:
UID:e.3234.290
SEQUENCE:3
DTSTAMP:20260422T045748Z
URL:https://business.roslynchamber.org/events/details/community-cocktails-conversation-290
END:VEVENT

END:VCALENDAR
