BEGIN:VCALENDAR
VERSION:2.0
PRODID:-//ChamberMaster//Event Calendar 2.0//EN
METHOD:PUBLISH
X-PUBLISHED-TTL:P3D
REFRESH-INTERVAL:P3D
CALSCALE:GREGORIAN
BEGIN:VEVENT
DTSTART:20210213T160000Z
DTEND:20210213T200000Z
X-MICROSOFT-CDO-ALLDAYEVENT:FALSE
SUMMARY:Holiday Inn Express Dress for Success
DESCRIPTION:On February 13.2021\, the Holiday Inn Express Roslyn will host a drive to benefit Dress for Success\, an international not-for-profit organization that empowers women to achieve economic independence by providing a network of support\, professional attire and the development tools to help women thrive in work and in life. Dress for Success has provided clothing\, confidence and career boosts to more than 1 million women around the world since 1997.  Monetary contributions are 100% tax deductible and no donation is too small! Checks can be made payable to "Dress for Success Worldwide 'or you may donate directly on the website\; dressforsuccess.org/donate
X-ALT-DESC;FMTTYPE=text/html:On February 13.2021\, the Holiday Inn Express Roslyn will host a drive to benefit Dress for Success\, an international not-for-profit organization that empowers women to achieve economic independence by providing a network of support\, professional attire and the development tools to help women thrive in work and in life. Dress for Success has provided clothing\, confidence and career boosts to more than 1 million women around the world since 1997.&nbsp\;&nbsp\;Monetary contributions are 100% tax deductible and no donation is too small! Checks can be made payable to &ldquo\;Dress for Success Worldwide &lsquo\;or you may donate directly on the website\; dressforsuccess.org/donate<br />\n&nbsp\;
LOCATION:1053 Northern Blvd. Roslyn\, NY 11567
UID:e.3234.164
SEQUENCE:3
DTSTAMP:20260426T043303Z
URL:https://business.roslynchamber.org/events/details/holiday-inn-express-dress-for-success-164
END:VEVENT

END:VCALENDAR
