BEGIN:VCALENDAR
VERSION:2.0
PRODID:-//ChamberMaster//Event Calendar 2.0//EN
METHOD:PUBLISH
X-PUBLISHED-TTL:P3D
REFRESH-INTERVAL:P3D
CALSCALE:GREGORIAN
BEGIN:VEVENT
DTSTART:20231022T133000Z
DTEND:20231022T163000Z
X-MICROSOFT-CDO-ALLDAYEVENT:FALSE
SUMMARY:Sid Jacobson JCC's Stronger Than Cancer 5K and Family Fun Run
DESCRIPTION:Join us at Sid Jacobson JCC's Annual Stronger Than Cancer 5K and Family Fun Run\, on Sunday\, October 22 in East Hills! This is a great family-friendly (strollers and fur babies welcome!)\, community-oriented event that is open to all ages and abilities. In addition\, we've added a "Family Fun Run" component with lively stations along the course  think jump ropes\, hula hoops\, hopscotch\, and bubbles! \n\n \n\nAs an added bonus\, you'll be supporting a great cause\, with proceeds benefiting SJJCC's Nancy Marx Cancer Wellness Center. They have been providing complimentary services for 20 years\, including fitness classes\, support groups\, counseling\, educational programs\, and an offsite retreat. Join us on October 22 and send a message of hope to all who have been affected in our local community and beyond\, because together\, we are Stronger Than Cancer! For more information\, please visit: www.sjjcc.org/5k
X-ALT-DESC;FMTTYPE=text/html:<span style="color:black"><span style="font-family:franklin gothic book\,sans-serif"><span style="font-size:12.0pt">Join us at <strong>Sid Jacobson JCC&rsquo\;s Annual Stronger Than Cancer 5K and Family Fun Run</strong>\, on <strong>Sunday\, October 22</strong> in East Hills! This is a great family-friendly (strollers and fur babies welcome!)\, community-oriented event that is open to all ages and abilities. In addition\, we&rsquo\;ve added a &ldquo\;Family Fun Run&rdquo\; component with lively stations along the course&hellip\; think jump ropes\, hula hoops\, hopscotch\, and bubbles! </span></span></span><br />\n&nbsp\;<br />\n<span style="color:black"><span style="font-family:franklin gothic book\,sans-serif"><span style="font-size:12.0pt">As an added bonus\, you&rsquo\;ll be supporting a great cause\, with proceeds benefiting <strong><a href="https://www.sjjcc.org/programs/nancy-marx-cancer-wellness-center/#overview">SJJCC&rsquo\;s Nancy Marx Cancer Wellness Center</a></strong>. They have been providing complimentary services for 20 years\, including fitness classes\, support groups\, counseling\, educational programs\, and an offsite retreat. </span></span></span><span style="font-family:franklin gothic book\,sans-serif"><span style="font-size:12.0pt">Join us on October 22 and send a message of <em>hope</em> to all who have been affected in our local community and beyond\, because together\, we are Stronger Than Cancer! <span style="color:black">For more information\, please visit: <a href="http://www.sjjcc.org/5k">www.sjjcc.org/5k</a></span></span></span>
LOCATION:Sid Jacobson JCC 300 Forest Drive Greenvale\, NY 11548
UID:e.3234.498
SEQUENCE:3
DTSTAMP:20260422T000017Z
URL:https://business.roslynchamber.org/events/details/sid-jacobson-jcc-s-stronger-than-cancer-5k-and-family-fun-run-498
END:VEVENT

END:VCALENDAR
