BEGIN:VCALENDAR
VERSION:2.0
PRODID:-//ChamberMaster//Event Calendar 2.0//EN
METHOD:PUBLISH
X-PUBLISHED-TTL:P3D
REFRESH-INTERVAL:P3D
CALSCALE:GREGORIAN
BEGIN:VEVENT
DTSTART:20231018T220000Z
DTEND:20231019T000000Z
X-MICROSOFT-CDO-ALLDAYEVENT:FALSE
SUMMARY:Sixth Annual Wine & Cheese Networking Event - Proceeds raised will benefit Long Island Home Builders Care
DESCRIPTION:Plesser's Appliances in partnership with the Sub-Zero\, Wolf & Cove Roslyn Heights showroom is hosting a Wine & Cheese Networking Event to support the Long Island Home Builders Care.\n\n\n\n$100 per person\n\nEmail RSVP to sheridan@libi.org or fax to 631-232-2349\n\n\n\nMake checks payable to LIHBC
X-ALT-DESC;FMTTYPE=text/html:Plesser&#39\;s Appliances in partnership with the Sub-Zero\, Wolf &amp\; Cove Roslyn Heights showroom is hosting a Wine &amp\; Cheese Networking Event to support the Long Island Home Builders Care.<br />\n<br />\n$100 per person<br />\nEmail RSVP to sheridan@libi.org or fax to 631-232-2349<br />\n<br />\nMake checks payable to LIHBC&nbsp\;<br />\n<br />\n&nbsp\;
LOCATION:Sub-Zero\, Wolf & Cove 170 Mineola Avenue Roslyn Heights\, NY 11577
UID:e.3234.500
SEQUENCE:3
DTSTAMP:20260422T000402Z
URL:https://business.roslynchamber.org/events/details/sixth-annual-wine-cheese-networking-event-proceeds-raised-will-benefit-long-island-home-builders-care-500
END:VEVENT

END:VCALENDAR
